BEGIN:VCALENDAR
VERSION:2.0
PRODID:-//wp-events-plugin.com//7.2.3.1//EN
TZID:Europe/Berlin
X-WR-TIMEZONE:Europe/Berlin
BEGIN:VEVENT
UID:457@jakob-brucker-gymnasium.de
DTSTART;TZID=Europe/Berlin;VALUE=DATE:20240425
DTEND;TZID=Europe/Berlin;VALUE=DATE:20240426
DTSTAMP:20231025T050233Z
URL:https://www.jakob-brucker-gymnasium.de/events/9c-suchtpraevention-saub
 a-bleim-aok/
SUMMARY:9c: Suchtprävention &quot\;Sauba bleim&quot\; (AOK)
DESCRIPTION:\n
END:VEVENT
BEGIN:VTIMEZONE
TZID:Europe/Berlin
X-LIC-LOCATION:Europe/Berlin
BEGIN:DAYLIGHT
DTSTART:20240331T030000
TZOFFSETFROM:+0100
TZOFFSETTO:+0200
TZNAME:CEST
END:DAYLIGHT
END:VTIMEZONE
END:VCALENDAR